BEGIN:VCALENDAR
VERSION:2.0
PRODID:-//桶狭間ミニバスケットボールクラブ - ECPv4.9.4//NONSGML v1.0//EN
CALSCALE:GREGORIAN
METHOD:PUBLISH
X-WR-CALNAME:桶狭間ミニバスケットボールクラブ
X-ORIGINAL-URL:http://ombbc.e-ysd.net
X-WR-CALDESC:桶狭間ミニバスケットボールクラブ のイベント
BEGIN:VTIMEZONE
TZID:"Asia/Tokyo"
BEGIN:STANDARD
TZOFFSETFROM:+0900
TZOFFSETTO:+0900
TZNAME:JST
DTSTART:20230101T000000
END:STANDARD
END:VTIMEZONE
BEGIN:VEVENT
DTSTART;VALUE=DATE:20230415
DTEND;VALUE=DATE:20230416
DTSTAMP:20260423T222457
CREATED:20230328T211317Z
LAST-MODIFIED:20230328T211317Z
UID:1955-1681516800-1681603199@ombbc.e-ysd.net
SUMMARY:練習
DESCRIPTION:練習in南陵小 \n9:00～12:00 \n（5・6年生・久・糸) \n  \n
URL:http://ombbc.e-ysd.net/event/%e7%b7%b4%e7%bf%92-372/
END:VEVENT
END:VCALENDAR