BEGIN:VCALENDAR
VERSION:2.0
PRODID:-//桶狭間ミニバスケットボールクラブ - ECPv4.9.4//NONSGML v1.0//EN
CALSCALE:GREGORIAN
METHOD:PUBLISH
X-WR-CALNAME:桶狭間ミニバスケットボールクラブ
X-ORIGINAL-URL:http://ombbc.e-ysd.net
X-WR-CALDESC:桶狭間ミニバスケットボールクラブ のイベント
BEGIN:VTIMEZONE
TZID:"Asia/Tokyo"
BEGIN:STANDARD
TZOFFSETFROM:+0900
TZOFFSETTO:+0900
TZNAME:JST
DTSTART:20250101T000000
END:STANDARD
END:VTIMEZONE
BEGIN:VEVENT
DTSTART;VALUE=DATE:20250113
DTEND;VALUE=DATE:20250114
DTSTAMP:20260421T160545
CREATED:20241229T105012Z
LAST-MODIFIED:20241229T105027Z
UID:2847-1736726400-1736812799@ombbc.e-ysd.net
SUMMARY:桶狭間交流会（5年生以下）
DESCRIPTION:桶狭間交流会in豊明福祉体育館 \n9:00～17:00 \n（3～5年・山・日） \n
URL:http://ombbc.e-ysd.net/event/%e6%a1%b6%e7%8b%ad%e9%96%93%e4%ba%a4%e6%b5%81%e4%bc%9a%ef%bc%885%e5%b9%b4%e7%94%9f%e4%bb%a5%e4%b8%8b%ef%bc%89/
END:VEVENT
END:VCALENDAR