BEGIN:VCALENDAR
VERSION:2.0
PRODID:-//桶狭間ミニバスケットボールクラブ - ECPv4.9.4//NONSGML v1.0//EN
CALSCALE:GREGORIAN
METHOD:PUBLISH
X-WR-CALNAME:桶狭間ミニバスケットボールクラブ
X-ORIGINAL-URL:http://ombbc.e-ysd.net
X-WR-CALDESC:桶狭間ミニバスケットボールクラブ のイベント
BEGIN:VTIMEZONE
TZID:"Asia/Tokyo"
BEGIN:STANDARD
TZOFFSETFROM:+0900
TZOFFSETTO:+0900
TZNAME:JST
DTSTART:20230101T000000
END:STANDARD
END:VTIMEZONE
BEGIN:VEVENT
DTSTART;VALUE=DATE:20230429
DTEND;VALUE=DATE:20230430
DTSTAMP:20260423T122158
CREATED:20230220T110128Z
LAST-MODIFIED:20230402T115953Z
UID:1919-1682726400-1682812799@ombbc.e-ysd.net
SUMMARY:桶狭間の戦い【春の陣】
DESCRIPTION:桶狭間の戦い【春の陣】 \n8:30～17:00 \n（5・6年生・久・糸） \n
URL:http://ombbc.e-ysd.net/event/%e6%a1%b6%e7%8b%ad%e9%96%93%e3%81%ae%e6%88%a6%e3%81%84%e3%80%90%e6%98%a5%e3%81%ae%e9%99%a3%e3%80%91-4/
END:VEVENT
END:VCALENDAR