BEGIN:VCALENDAR
VERSION:2.0
PRODID:-//桶狭間ミニバスケットボールクラブ - ECPv4.9.4//NONSGML v1.0//EN
CALSCALE:GREGORIAN
METHOD:PUBLISH
X-WR-CALNAME:桶狭間ミニバスケットボールクラブ
X-ORIGINAL-URL:http://ombbc.e-ysd.net
X-WR-CALDESC:桶狭間ミニバスケットボールクラブ のイベント
BEGIN:VTIMEZONE
TZID:"Asia/Tokyo"
BEGIN:STANDARD
TZOFFSETFROM:+0900
TZOFFSETTO:+0900
TZNAME:JST
DTSTART:20230101T000000
END:STANDARD
END:VTIMEZONE
BEGIN:VEVENT
DTSTART;VALUE=DATE:20230624
DTEND;VALUE=DATE:20230625
DTSTAMP:20260421T154027
CREATED:20230511T114859Z
LAST-MODIFIED:20230511T114859Z
UID:2017-1687564800-1687651199@ombbc.e-ysd.net
SUMMARY:平成カップ
DESCRIPTION:平成カップin刈谷市体育館 \n9:00～18:00 \n（5・6年生・久・糸) \n  \n
URL:http://ombbc.e-ysd.net/event/%e5%b9%b3%e6%88%90%e3%82%ab%e3%83%83%e3%83%97/
END:VEVENT
END:VCALENDAR