BEGIN:VCALENDAR
VERSION:2.0
PRODID:-//桶狭間ミニバスケットボールクラブ - ECPv4.9.4//NONSGML v1.0//EN
CALSCALE:GREGORIAN
METHOD:PUBLISH
X-WR-CALNAME:桶狭間ミニバスケットボールクラブ
X-ORIGINAL-URL:http://ombbc.e-ysd.net
X-WR-CALDESC:桶狭間ミニバスケットボールクラブ のイベント
BEGIN:VTIMEZONE
TZID:"Asia/Tokyo"
BEGIN:STANDARD
TZOFFSETFROM:+0900
TZOFFSETTO:+0900
TZNAME:JST
DTSTART:20250101T000000
END:STANDARD
END:VTIMEZONE
BEGIN:VEVENT
DTSTART;VALUE=DATE:20250105
DTEND;VALUE=DATE:20250106
DTSTAMP:20260422T051948
CREATED:20241229T103307Z
LAST-MODIFIED:20241229T104525Z
UID:2835-1736035200-1736121599@ombbc.e-ysd.net
SUMMARY:練習
DESCRIPTION:練習in南陵小 \n9:00～12:00 \n（6年・ジュニア・久・糸・井） \n
URL:http://ombbc.e-ysd.net/event/%e5%90%88%e5%90%8c%e7%b7%b4%e7%bf%92-9/
END:VEVENT
END:VCALENDAR