BEGIN:VCALENDAR
VERSION:2.0
PRODID:-//桶狭間ミニバスケットボールクラブ - ECPv4.9.4//NONSGML v1.0//EN
CALSCALE:GREGORIAN
METHOD:PUBLISH
X-WR-CALNAME:桶狭間ミニバスケットボールクラブ
X-ORIGINAL-URL:http://ombbc.e-ysd.net
X-WR-CALDESC:桶狭間ミニバスケットボールクラブ のイベント
BEGIN:VTIMEZONE
TZID:"Asia/Tokyo"
BEGIN:STANDARD
TZOFFSETFROM:+0900
TZOFFSETTO:+0900
TZNAME:JST
DTSTART:20230101T000000
END:STANDARD
END:VTIMEZONE
BEGIN:VEVENT
DTSTART;VALUE=DATE:20230610
DTEND;VALUE=DATE:20230611
DTSTAMP:20260422T012330
CREATED:20230523T122506Z
LAST-MODIFIED:20230523T122506Z
UID:2030-1686355200-1686441599@ombbc.e-ysd.net
SUMMARY:合同練習
DESCRIPTION:合同練習in飛島南部体育館 \n9:00～17:00 \n（5・6年生・久・糸） \n
URL:http://ombbc.e-ysd.net/event/%e5%90%88%e5%90%8c%e7%b7%b4%e7%bf%92-5/
END:VEVENT
END:VCALENDAR