BEGIN:VCALENDAR
VERSION:2.0
PRODID:-//桶狭間ミニバスケットボールクラブ - ECPv4.9.4//NONSGML v1.0//EN
CALSCALE:GREGORIAN
METHOD:PUBLISH
X-WR-CALNAME:桶狭間ミニバスケットボールクラブ
X-ORIGINAL-URL:http://ombbc.e-ysd.net
X-WR-CALDESC:桶狭間ミニバスケットボールクラブ のイベント
BEGIN:VTIMEZONE
TZID:"Asia/Tokyo"
BEGIN:STANDARD
TZOFFSETFROM:+0900
TZOFFSETTO:+0900
TZNAME:JST
DTSTART:20230101T000000
END:STANDARD
END:VTIMEZONE
BEGIN:VEVENT
DTSTART;VALUE=DATE:20230520
DTEND;VALUE=DATE:20230522
DTSTAMP:20260422T135214
CREATED:20230328T210711Z
LAST-MODIFIED:20230328T210711Z
UID:1947-1684540800-1684713599@ombbc.e-ysd.net
SUMMARY:南知多町観光協会長杯
DESCRIPTION:南知多町観光協会長杯in南知多町総合体育館 \n初日9:00～大会→大東旅館へ \n2日目9:00～17:00大会 \n（全員・全員） \n
URL:http://ombbc.e-ysd.net/event/%e5%8d%97%e7%9f%a5%e5%a4%9a%e7%94%ba%e8%a6%b3%e5%85%89%e5%8d%94%e4%bc%9a%e9%95%b7%e6%9d%af-2/
END:VEVENT
END:VCALENDAR