BEGIN:VCALENDAR
VERSION:2.0
PRODID:-//桶狭間ミニバスケットボールクラブ - ECPv4.9.4//NONSGML v1.0//EN
CALSCALE:GREGORIAN
METHOD:PUBLISH
X-WR-CALNAME:桶狭間ミニバスケットボールクラブ
X-ORIGINAL-URL:http://ombbc.e-ysd.net
X-WR-CALDESC:桶狭間ミニバスケットボールクラブ のイベント
BEGIN:VTIMEZONE
TZID:"Asia/Tokyo"
BEGIN:STANDARD
TZOFFSETFROM:+0900
TZOFFSETTO:+0900
TZNAME:JST
DTSTART:20230101T000000
END:STANDARD
END:VTIMEZONE
BEGIN:VEVENT
DTSTART;VALUE=DATE:20230416
DTEND;VALUE=DATE:20230417
DTSTAMP:20260423T192903
CREATED:20230220T105939Z
LAST-MODIFIED:20230220T110016Z
UID:1917-1681603200-1681689599@ombbc.e-ysd.net
SUMMARY:アイケン杯
DESCRIPTION:アイケン杯in西尾市総合体育館 \n9:00～17:00 \n（新5・6年生・久・糸） \n
URL:http://ombbc.e-ysd.net/event/%e3%82%a2%e3%82%a4%e3%82%b1%e3%83%b3%e6%9d%af-4/
END:VEVENT
END:VCALENDAR